BEGIN:VCALENDAR
VERSION:2.0
PRODID:-//Northway Parish Council//Meeting Calendar//EN
CALSCALE:GREGORIAN
METHOD:PUBLISH
BEGIN:VEVENT
UID:70368-20190911@northwayparishcouncil.gov.uk
DTSTAMP:20260419T170154Z
DTSTART;VALUE=DATE:20190911
DTEND;VALUE=DATE:20190912
SUMMARY:Council Meeting &#8211\\; 11 September 2019
DESCRIPTION:Full Council Meeting\nView details: https://northwayparishcouncil.gov.uk/meetings/full-council-meeting-11th-september-2019/
URL:https://northwayparishcouncil.gov.uk/meetings/full-council-meeting-11th-september-2019/
END:VEVENT
END:VCALENDAR
