BEGIN:VCALENDAR
VERSION:2.0
PRODID:-//Northway Parish Council//Meeting Calendar//EN
CALSCALE:GREGORIAN
METHOD:PUBLISH
BEGIN:VEVENT
UID:70371-20191009@northwayparishcouncil.gov.uk
DTSTAMP:20260419T184525Z
DTSTART;VALUE=DATE:20191009
DTEND;VALUE=DATE:20191010
SUMMARY:Council Meeting &#8211\\; 9 October 2019
DESCRIPTION:Full Council Meeting\nView details: https://northwayparishcouncil.gov.uk/meetings/full-council-meeting-9th-october-2019/
URL:https://northwayparishcouncil.gov.uk/meetings/full-council-meeting-9th-october-2019/
END:VEVENT
END:VCALENDAR
