BEGIN:VCALENDAR
VERSION:2.0
PRODID:-//Northway Parish Council//Meeting Calendar//EN
CALSCALE:GREGORIAN
METHOD:PUBLISH
BEGIN:VEVENT
UID:70374-20191113@northwayparishcouncil.gov.uk
DTSTAMP:20260419T190459Z
DTSTART;VALUE=DATE:20191113
DTEND;VALUE=DATE:20191114
SUMMARY:Council Meeting &#8211\\; 13 November 2019
DESCRIPTION:Full Council Meeting\nView details: https://northwayparishcouncil.gov.uk/meetings/full-council-meeting-13th-november-2019/
URL:https://northwayparishcouncil.gov.uk/meetings/full-council-meeting-13th-november-2019/
END:VEVENT
END:VCALENDAR
