BEGIN:VCALENDAR
VERSION:2.0
PRODID:-//Northway Parish Council//Meeting Calendar//EN
CALSCALE:GREGORIAN
METHOD:PUBLISH
BEGIN:VEVENT
UID:70411-20201014@northwayparishcouncil.gov.uk
DTSTAMP:20260419T222014Z
DTSTART;VALUE=DATE:20201014
DTEND;VALUE=DATE:20201015
SUMMARY:Council Meeting &#8211\\; 14 October 2020
DESCRIPTION:Full Council Meeting\nView details: https://northwayparishcouncil.gov.uk/meetings/full-council-meeting-14th-october-2020/
URL:https://northwayparishcouncil.gov.uk/meetings/full-council-meeting-14th-october-2020/
END:VEVENT
END:VCALENDAR
