BEGIN:VCALENDAR
VERSION:2.0
PRODID:-//Northway Parish Council//Meeting Calendar//EN
CALSCALE:GREGORIAN
METHOD:PUBLISH
BEGIN:VEVENT
UID:70416-20201209@northwayparishcouncil.gov.uk
DTSTAMP:20260419T234452Z
DTSTART;VALUE=DATE:20201209
DTEND;VALUE=DATE:20201210
SUMMARY:Council Meeting &#8211\\; 9 December 2020
DESCRIPTION:Full Council Meeting\nView details: https://northwayparishcouncil.gov.uk/meetings/full-council-meeting-9th-december-2020/
URL:https://northwayparishcouncil.gov.uk/meetings/full-council-meeting-9th-december-2020/
END:VEVENT
END:VCALENDAR
