BEGIN:VCALENDAR
VERSION:2.0
PRODID:-//Northway Parish Council//Meeting Calendar//EN
CALSCALE:GREGORIAN
METHOD:PUBLISH
BEGIN:VEVENT
UID:70425-20210113@northwayparishcouncil.gov.uk
DTSTAMP:20260419T234132Z
DTSTART;VALUE=DATE:20210113
DTEND;VALUE=DATE:20210114
SUMMARY:Council Meeting &#8211\\; 13 January 2021
DESCRIPTION:Full Council Meeting\nView details: https://northwayparishcouncil.gov.uk/meetings/council-meeting-13th-january-2021/
URL:https://northwayparishcouncil.gov.uk/meetings/council-meeting-13th-january-2021/
END:VEVENT
END:VCALENDAR
