BEGIN:VCALENDAR
VERSION:2.0
PRODID:-//Northway Parish Council//Meeting Calendar//EN
CALSCALE:GREGORIAN
METHOD:PUBLISH
BEGIN:VEVENT
UID:70430-20210331@northwayparishcouncil.gov.uk
DTSTAMP:20260419T181358Z
DTSTART;VALUE=DATE:20210331
DTEND;VALUE=DATE:20210401
SUMMARY:Annual Public Meeting (Parish Assembly) &#8211\\; 31 March 2021
DESCRIPTION:Parish Assembly Meeting\nView details: https://northwayparishcouncil.gov.uk/meetings/council-meeting-31st-march-2021/
URL:https://northwayparishcouncil.gov.uk/meetings/council-meeting-31st-march-2021/
END:VEVENT
END:VCALENDAR
