BEGIN:VCALENDAR
VERSION:2.0
PRODID:-//Northway Parish Council//Meeting Calendar//EN
CALSCALE:GREGORIAN
METHOD:PUBLISH
BEGIN:VEVENT
UID:70475-20211013@northwayparishcouncil.gov.uk
DTSTAMP:20260420T071615Z
DTSTART;VALUE=DATE:20211013
DTEND;VALUE=DATE:20211014
SUMMARY:Council Meeting &#8211\\; 13 October 2021
DESCRIPTION:Full Council Meeting\nView details: https://northwayparishcouncil.gov.uk/meetings/council-meeting-13th-october-2021/
URL:https://northwayparishcouncil.gov.uk/meetings/council-meeting-13th-october-2021/
END:VEVENT
END:VCALENDAR
