BEGIN:VCALENDAR
VERSION:2.0
PRODID:-//Northway Parish Council//Meeting Calendar//EN
CALSCALE:GREGORIAN
METHOD:PUBLISH
BEGIN:VEVENT
UID:70485-20220112@northwayparishcouncil.gov.uk
DTSTAMP:20260420T071609Z
DTSTART;VALUE=DATE:20220112
DTEND;VALUE=DATE:20220113
SUMMARY:Council Meeting &#8211\\; 12 January 2022
DESCRIPTION:Full Council Meeting\nView details: https://northwayparishcouncil.gov.uk/meetings/council-meeting-12th-january-2021/
URL:https://northwayparishcouncil.gov.uk/meetings/council-meeting-12th-january-2021/
END:VEVENT
END:VCALENDAR
