BEGIN:VCALENDAR
VERSION:2.0
PRODID:-//Northway Parish Council//Meeting Calendar//EN
CALSCALE:GREGORIAN
METHOD:PUBLISH
BEGIN:VEVENT
UID:70488-20220119@northwayparishcouncil.gov.uk
DTSTAMP:20260422T084502Z
DTSTART;VALUE=DATE:20220119
DTEND;VALUE=DATE:20220120
SUMMARY:Extraordinary Council Meeting &#8211\\; 19 January 2022
DESCRIPTION:Full Council Meeting\nView details: https://northwayparishcouncil.gov.uk/meetings/council-meeting-19th-january-2021/
URL:https://northwayparishcouncil.gov.uk/meetings/council-meeting-19th-january-2021/
END:VEVENT
END:VCALENDAR
