BEGIN:VCALENDAR
VERSION:2.0
PRODID:-//Northway Parish Council//Meeting Calendar//EN
CALSCALE:GREGORIAN
METHOD:PUBLISH
BEGIN:VEVENT
UID:70491-20210126@northwayparishcouncil.gov.uk
DTSTAMP:20260419T233817Z
DTSTART;VALUE=DATE:20210126
DTEND;VALUE=DATE:20210127
SUMMARY:Extraordinary Council Meeting &#8211\\; 26 January 2022
DESCRIPTION:Full Council Meeting\nView details: https://northwayparishcouncil.gov.uk/meetings/extraordinary-council-meeting-26th-january-2021/
URL:https://northwayparishcouncil.gov.uk/meetings/extraordinary-council-meeting-26th-january-2021/
END:VEVENT
END:VCALENDAR
