BEGIN:VCALENDAR
VERSION:2.0
PRODID:-//Northway Parish Council//Meeting Calendar//EN
CALSCALE:GREGORIAN
METHOD:PUBLISH
BEGIN:VEVENT
UID:70497-20220309@northwayparishcouncil.gov.uk
DTSTAMP:20260420T090259Z
DTSTART;VALUE=DATE:20220309
DTEND;VALUE=DATE:20220310
SUMMARY:Council Meeting &#8211\\; 9 March 2022
DESCRIPTION:Full Council Meeting\nView details: https://northwayparishcouncil.gov.uk/meetings/council-meeting-9th-march-2022/
URL:https://northwayparishcouncil.gov.uk/meetings/council-meeting-9th-march-2022/
END:VEVENT
END:VCALENDAR
