BEGIN:VCALENDAR
VERSION:2.0
PRODID:-//Northway Parish Council//Meeting Calendar//EN
CALSCALE:GREGORIAN
METHOD:PUBLISH
BEGIN:VEVENT
UID:70500-20220331@northwayparishcouncil.gov.uk
DTSTAMP:20260419T163723Z
DTSTART;VALUE=DATE:20220331
DTEND;VALUE=DATE:20220401
SUMMARY:Annual Public Meeting (Parish Assembly) &#8211\\; 31 March 2022
DESCRIPTION:Parish Assembly Meeting\nView details: https://northwayparishcouncil.gov.uk/meetings/council-meeting-31st-march-2022/
URL:https://northwayparishcouncil.gov.uk/meetings/council-meeting-31st-march-2022/
END:VEVENT
END:VCALENDAR
