BEGIN:VCALENDAR
VERSION:2.0
PRODID:-//Northway Parish Council//Meeting Calendar//EN
CALSCALE:GREGORIAN
METHOD:PUBLISH
BEGIN:VEVENT
UID:70502-20220413@northwayparishcouncil.gov.uk
DTSTAMP:20260420T093017Z
DTSTART;VALUE=DATE:20220413
DTEND;VALUE=DATE:20220414
SUMMARY:Council Meeting &#8211\\; 13 April 2022
DESCRIPTION:Full Council Meeting\nView details: https://northwayparishcouncil.gov.uk/meetings/council-meeting-13th-april-2022/
URL:https://northwayparishcouncil.gov.uk/meetings/council-meeting-13th-april-2022/
END:VEVENT
END:VCALENDAR
