BEGIN:VCALENDAR
VERSION:2.0
PRODID:-//Northway Parish Council//Meeting Calendar//EN
CALSCALE:GREGORIAN
METHOD:PUBLISH
BEGIN:VEVENT
UID:70514-20220713@northwayparishcouncil.gov.uk
DTSTAMP:20260420T075120Z
DTSTART;VALUE=DATE:20220713
DTEND;VALUE=DATE:20220714
SUMMARY:Council Meeting &#8211\\; 13 July 2022
DESCRIPTION:Full Council Meeting\nView details: https://northwayparishcouncil.gov.uk/meetings/council-meeting-13th-july-2022/
URL:https://northwayparishcouncil.gov.uk/meetings/council-meeting-13th-july-2022/
END:VEVENT
END:VCALENDAR
