BEGIN:VCALENDAR
VERSION:2.0
PRODID:-//Northway Parish Council//Meeting Calendar//EN
CALSCALE:GREGORIAN
METHOD:PUBLISH
BEGIN:VEVENT
UID:70549-20230712@northwayparishcouncil.gov.uk
DTSTAMP:20260420T005807Z
DTSTART;VALUE=DATE:20230712
DTEND;VALUE=DATE:20230713
SUMMARY:Council Meeting &#8211\\; 12 July 2023
DESCRIPTION:Full Council Meeting\nView details: https://northwayparishcouncil.gov.uk/meetings/council-meeting-12th-july-2023/
URL:https://northwayparishcouncil.gov.uk/meetings/council-meeting-12th-july-2023/
END:VEVENT
END:VCALENDAR
