BEGIN:VCALENDAR
VERSION:2.0
PRODID:-//Northway Parish Council//Meeting Calendar//EN
CALSCALE:GREGORIAN
METHOD:PUBLISH
BEGIN:VEVENT
UID:70552-20230814@northwayparishcouncil.gov.uk
DTSTAMP:20260420T005807Z
DTSTART;VALUE=DATE:20230814
DTEND;VALUE=DATE:20230815
SUMMARY:Extraordinary Council Meeting &#8211\\; 14 August 2023
DESCRIPTION:Full Council Meeting\nView details: https://northwayparishcouncil.gov.uk/meetings/extraordinary-council-meeting-14th-august-2023/
URL:https://northwayparishcouncil.gov.uk/meetings/extraordinary-council-meeting-14th-august-2023/
END:VEVENT
END:VCALENDAR
