BEGIN:VCALENDAR
VERSION:2.0
PRODID:-//Northway Parish Council//Meeting Calendar//EN
CALSCALE:GREGORIAN
METHOD:PUBLISH
BEGIN:VEVENT
UID:70558-20231004@northwayparishcouncil.gov.uk
DTSTAMP:20260420T005828Z
DTSTART;VALUE=DATE:20231004
DTEND;VALUE=DATE:20231005
SUMMARY:Extraordinary Council Meeting &#8211\\; 4 October 2023
DESCRIPTION:Full Council Meeting\nView details: https://northwayparishcouncil.gov.uk/meetings/extraordinary-council-meeting-4th-october-2023/
URL:https://northwayparishcouncil.gov.uk/meetings/extraordinary-council-meeting-4th-october-2023/
END:VEVENT
END:VCALENDAR
