BEGIN:VCALENDAR
VERSION:2.0
PRODID:-//Northway Parish Council//Meeting Calendar//EN
CALSCALE:GREGORIAN
METHOD:PUBLISH
BEGIN:VEVENT
UID:70561-20231011@northwayparishcouncil.gov.uk
DTSTAMP:20260419T232324Z
DTSTART;VALUE=DATE:20231011
DTEND;VALUE=DATE:20231012
SUMMARY:Council Meeting &#8211\\; 11 October 2023
DESCRIPTION:Full Council Meeting\nView details: https://northwayparishcouncil.gov.uk/meetings/council-meeting-11th-october-2023/
URL:https://northwayparishcouncil.gov.uk/meetings/council-meeting-11th-october-2023/
END:VEVENT
END:VCALENDAR
