BEGIN:VCALENDAR
VERSION:2.0
PRODID:-//Northway Parish Council//Meeting Calendar//EN
CALSCALE:GREGORIAN
METHOD:PUBLISH
BEGIN:VEVENT
UID:70564-20231108@northwayparishcouncil.gov.uk
DTSTAMP:20260420T005451Z
DTSTART;VALUE=DATE:20231108
DTEND;VALUE=DATE:20231109
SUMMARY:Council Meeting &#8211\\; 8 November 2023
DESCRIPTION:Full Council Meeting\nView details: https://northwayparishcouncil.gov.uk/meetings/council-meeting-8th-november-2023/
URL:https://northwayparishcouncil.gov.uk/meetings/council-meeting-8th-november-2023/
END:VEVENT
END:VCALENDAR
