BEGIN:VCALENDAR
VERSION:2.0
PRODID:-//Northway Parish Council//Meeting Calendar//EN
CALSCALE:GREGORIAN
METHOD:PUBLISH
BEGIN:VEVENT
UID:70574-20220110@northwayparishcouncil.gov.uk
DTSTAMP:20260419T215953Z
DTSTART;VALUE=DATE:20220110
DTEND;VALUE=DATE:20220111
SUMMARY:Finance Committee -10 January 2022
DESCRIPTION:Finance Committee Meeting\nView details: https://northwayparishcouncil.gov.uk/meetings/finance-committee-meeting-10th-january-2022/
URL:https://northwayparishcouncil.gov.uk/meetings/finance-committee-meeting-10th-january-2022/
END:VEVENT
END:VCALENDAR
