BEGIN:VCALENDAR
VERSION:2.0
PRODID:-//Northway Parish Council//Meeting Calendar//EN
CALSCALE:GREGORIAN
METHOD:PUBLISH
BEGIN:VEVENT
UID:70576-20220727@northwayparishcouncil.gov.uk
DTSTAMP:20260419T214420Z
DTSTART;VALUE=DATE:20220727
DTEND;VALUE=DATE:20220728
SUMMARY:Finance Committee &#8211\\; 27 July 2022
DESCRIPTION:Finance Committee Meeting\nView details: https://northwayparishcouncil.gov.uk/meetings/finance-committee-meeting-27th-july-2022/
URL:https://northwayparishcouncil.gov.uk/meetings/finance-committee-meeting-27th-july-2022/
END:VEVENT
END:VCALENDAR
