BEGIN:VCALENDAR
VERSION:2.0
PRODID:-//Northway Parish Council//Meeting Calendar//EN
CALSCALE:GREGORIAN
METHOD:PUBLISH
BEGIN:VEVENT
UID:70578-20221026@northwayparishcouncil.gov.uk
DTSTAMP:20260419T232533Z
DTSTART;VALUE=DATE:20221026
DTEND;VALUE=DATE:20221027
SUMMARY:Finance Committee &#8211\\; 26 October 2022
DESCRIPTION:Finance Committee Meeting\nView details: https://northwayparishcouncil.gov.uk/meetings/finance-committee-meeting-26th-october-2022/
URL:https://northwayparishcouncil.gov.uk/meetings/finance-committee-meeting-26th-october-2022/
END:VEVENT
END:VCALENDAR
