BEGIN:VCALENDAR
VERSION:2.0
PRODID:-//Northway Parish Council//Meeting Calendar//EN
CALSCALE:GREGORIAN
METHOD:PUBLISH
BEGIN:VEVENT
UID:70591-20230426@northwayparishcouncil.gov.uk
DTSTAMP:20260420T012405Z
DTSTART;VALUE=DATE:20230426
DTEND;VALUE=DATE:20230427
SUMMARY:Finance Committee &#8211\\; 26 April 2023
DESCRIPTION:Finance Committee Meeting\nView details: https://northwayparishcouncil.gov.uk/meetings/finance-committee-meeting-26th-april-2023/
URL:https://northwayparishcouncil.gov.uk/meetings/finance-committee-meeting-26th-april-2023/
END:VEVENT
END:VCALENDAR
