BEGIN:VCALENDAR
VERSION:2.0
PRODID:-//Northway Parish Council//Meeting Calendar//EN
CALSCALE:GREGORIAN
METHOD:PUBLISH
BEGIN:VEVENT
UID:70805-20231115@northwayparishcouncil.gov.uk
DTSTAMP:20260420T005828Z
DTSTART;VALUE=DATE:20231115
DTEND;VALUE=DATE:20231116
SUMMARY:Planning Committee &#8211\\; 15 November 2023
DESCRIPTION:Planning Committee Meeting\nView details: https://northwayparishcouncil.gov.uk/meetings/planning-committee-15th-november-2023/
URL:https://northwayparishcouncil.gov.uk/meetings/planning-committee-15th-november-2023/
END:VEVENT
END:VCALENDAR
