BEGIN:VCALENDAR
VERSION:2.0
PRODID:-//Northway Parish Council//Meeting Calendar//EN
CALSCALE:GREGORIAN
METHOD:PUBLISH
BEGIN:VEVENT
UID:70810-20231018@northwayparishcouncil.gov.uk
DTSTAMP:20260420T004949Z
DTSTART;VALUE=DATE:20231018
DTEND;VALUE=DATE:20231019
SUMMARY:Planning Committee &#8211\\; 18 October 2023
DESCRIPTION:Planning Committee Meeting\nView details: https://northwayparishcouncil.gov.uk/meetings/planning-committee-18th-october-2023/
URL:https://northwayparishcouncil.gov.uk/meetings/planning-committee-18th-october-2023/
END:VEVENT
END:VCALENDAR
