BEGIN:VCALENDAR
VERSION:2.0
PRODID:-//Northway Parish Council//Meeting Calendar//EN
CALSCALE:GREGORIAN
METHOD:PUBLISH
BEGIN:VEVENT
UID:70916-20240228@northwayparishcouncil.gov.uk
DTSTAMP:20260419T232324Z
DTSTART;VALUE=DATE:20240228
DTEND;VALUE=DATE:20240229
SUMMARY:Planning Committee &#8211\\; 28 February 2024
DESCRIPTION:Planning Committee Meeting\nView details: https://northwayparishcouncil.gov.uk/meetings/planning-committee-28th-february-2024/
URL:https://northwayparishcouncil.gov.uk/meetings/planning-committee-28th-february-2024/
END:VEVENT
END:VCALENDAR
