BEGIN:VCALENDAR
VERSION:2.0
PRODID:-//Northway Parish Council//Meeting Calendar//EN
CALSCALE:GREGORIAN
METHOD:PUBLISH
BEGIN:VEVENT
UID:71090-20190227@northwayparishcouncil.gov.uk
DTSTAMP:20260419T174307Z
DTSTART;VALUE=DATE:20190227
DTEND;VALUE=DATE:20190228
SUMMARY:Planning Committee &#8211\\; 27 February 2019
DESCRIPTION:Planning Committee Meeting\nView details: https://northwayparishcouncil.gov.uk/meetings/planning-committee-27-february-2019/
URL:https://northwayparishcouncil.gov.uk/meetings/planning-committee-27-february-2019/
END:VEVENT
END:VCALENDAR
