BEGIN:VCALENDAR
VERSION:2.0
PRODID:-//Northway Parish Council//Meeting Calendar//EN
CALSCALE:GREGORIAN
METHOD:PUBLISH
BEGIN:VEVENT
UID:71093-20190320@northwayparishcouncil.gov.uk
DTSTAMP:20260419T192320Z
DTSTART;VALUE=DATE:20190320
DTEND;VALUE=DATE:20190321
SUMMARY:Planning Committee &#8211\\; 20 March 2019
DESCRIPTION:Planning Committee Meeting\nView details: https://northwayparishcouncil.gov.uk/meetings/planning-committee-20-march-2019/
URL:https://northwayparishcouncil.gov.uk/meetings/planning-committee-20-march-2019/
END:VEVENT
END:VCALENDAR
