BEGIN:VCALENDAR
VERSION:2.0
PRODID:-//Northway Parish Council//Meeting Calendar//EN
CALSCALE:GREGORIAN
METHOD:PUBLISH
BEGIN:VEVENT
UID:71096-20190417@northwayparishcouncil.gov.uk
DTSTAMP:20260419T175748Z
DTSTART;VALUE=DATE:20190417
DTEND;VALUE=DATE:20190418
SUMMARY:Planning Committee &#8211\\; 17 April 2019
DESCRIPTION:Planning Committee Meeting\nView details: https://northwayparishcouncil.gov.uk/meetings/planning-committee-17-april-2019/
URL:https://northwayparishcouncil.gov.uk/meetings/planning-committee-17-april-2019/
END:VEVENT
END:VCALENDAR
