BEGIN:VCALENDAR
VERSION:2.0
PRODID:-//Northway Parish Council//Meeting Calendar//EN
CALSCALE:GREGORIAN
METHOD:PUBLISH
BEGIN:VEVENT
UID:71135-20200617@northwayparishcouncil.gov.uk
DTSTAMP:20260422T142318Z
DTSTART;VALUE=DATE:20200617
DTEND;VALUE=DATE:20200618
SUMMARY:Planning Committee &#8211\\; 17 June 2020
DESCRIPTION:Planning Committee Meeting\nView details: https://northwayparishcouncil.gov.uk/meetings/planning-committee-17-june-2020/
URL:https://northwayparishcouncil.gov.uk/meetings/planning-committee-17-june-2020/
END:VEVENT
END:VCALENDAR
