BEGIN:VCALENDAR
VERSION:2.0
PRODID:-//Northway Parish Council//Meeting Calendar//EN
CALSCALE:GREGORIAN
METHOD:PUBLISH
BEGIN:VEVENT
UID:71145-20200916@northwayparishcouncil.gov.uk
DTSTAMP:20260422T124104Z
DTSTART;VALUE=DATE:20200916
DTEND;VALUE=DATE:20200917
SUMMARY:Planning Committee &#8211\\; 16 September 2020
DESCRIPTION:Planning Committee Meeting\nView details: https://northwayparishcouncil.gov.uk/meetings/planning-committee-16-september-2020/
URL:https://northwayparishcouncil.gov.uk/meetings/planning-committee-16-september-2020/
END:VEVENT
END:VCALENDAR
