BEGIN:VCALENDAR
VERSION:2.0
PRODID:-//Northway Parish Council//Meeting Calendar//EN
CALSCALE:GREGORIAN
METHOD:PUBLISH
BEGIN:VEVENT
UID:71148-20201021@northwayparishcouncil.gov.uk
DTSTAMP:20260422T124226Z
DTSTART;VALUE=DATE:20201021
DTEND;VALUE=DATE:20201022
SUMMARY:Planning Committee &#8211\\; 21 October 2020
DESCRIPTION:Planning Committee Meeting\nView details: https://northwayparishcouncil.gov.uk/meetings/planning-committee-21-october-2020/
URL:https://northwayparishcouncil.gov.uk/meetings/planning-committee-21-october-2020/
END:VEVENT
END:VCALENDAR
