BEGIN:VCALENDAR
VERSION:2.0
PRODID:-//Northway Parish Council//Meeting Calendar//EN
CALSCALE:GREGORIAN
METHOD:PUBLISH
BEGIN:VEVENT
UID:71175-20210816@northwayparishcouncil.gov.uk
DTSTAMP:20260422T083505Z
DTSTART;VALUE=DATE:20210816
DTEND;VALUE=DATE:20210817
SUMMARY:Planning Committee &#8211\\; 16 August 2021
DESCRIPTION:Planning Committee Meeting\nView details: https://northwayparishcouncil.gov.uk/meetings/planning-committee-16-august-2021/
URL:https://northwayparishcouncil.gov.uk/meetings/planning-committee-16-august-2021/
END:VEVENT
END:VCALENDAR
