BEGIN:VCALENDAR
VERSION:2.0
PRODID:-//Northway Parish Council//Meeting Calendar//EN
CALSCALE:GREGORIAN
METHOD:PUBLISH
BEGIN:VEVENT
UID:71178-20210915@northwayparishcouncil.gov.uk
DTSTAMP:20260422T100809Z
DTSTART;VALUE=DATE:20210915
DTEND;VALUE=DATE:20210916
SUMMARY:Planning Committee &#8211\\; 15 September 2021
DESCRIPTION:Planning Committee Meeting\nView details: https://northwayparishcouncil.gov.uk/meetings/planning-committee-15-september-2021/
URL:https://northwayparishcouncil.gov.uk/meetings/planning-committee-15-september-2021/
END:VEVENT
END:VCALENDAR
