BEGIN:VCALENDAR
VERSION:2.0
PRODID:-//Northway Parish Council//Meeting Calendar//EN
CALSCALE:GREGORIAN
METHOD:PUBLISH
BEGIN:VEVENT
UID:71187-20211215@northwayparishcouncil.gov.uk
DTSTAMP:20260420T090127Z
DTSTART;VALUE=DATE:20211215
DTEND;VALUE=DATE:20211216
SUMMARY:Planning Committee &#8211\\; 15 December 2021
DESCRIPTION:Planning Committee Meeting\nView details: https://northwayparishcouncil.gov.uk/meetings/planning-committee-15-december-2021/
URL:https://northwayparishcouncil.gov.uk/meetings/planning-committee-15-december-2021/
END:VEVENT
END:VCALENDAR
