BEGIN:VCALENDAR
VERSION:2.0
PRODID:-//Northway Parish Council//Meeting Calendar//EN
CALSCALE:GREGORIAN
METHOD:PUBLISH
BEGIN:VEVENT
UID:71190-20220119@northwayparishcouncil.gov.uk
DTSTAMP:20260420T090957Z
DTSTART;VALUE=DATE:20220119
DTEND;VALUE=DATE:20220120
SUMMARY:Planning Committee &#8211\\; 19 January 2022
DESCRIPTION:Planning Committee Meeting\nView details: https://northwayparishcouncil.gov.uk/meetings/planning-committee-19-january-2022/
URL:https://northwayparishcouncil.gov.uk/meetings/planning-committee-19-january-2022/
END:VEVENT
END:VCALENDAR
