BEGIN:VCALENDAR
VERSION:2.0
PRODID:-//Northway Parish Council//Meeting Calendar//EN
CALSCALE:GREGORIAN
METHOD:PUBLISH
BEGIN:VEVENT
UID:71193-20220216@northwayparishcouncil.gov.uk
DTSTAMP:20260420T091412Z
DTSTART;VALUE=DATE:20220216
DTEND;VALUE=DATE:20220217
SUMMARY:Planning Committee &#8211\\; 16 February 2022
DESCRIPTION:Planning Committee Meeting\nView details: https://northwayparishcouncil.gov.uk/meetings/planning-committee-16-february-2022/
URL:https://northwayparishcouncil.gov.uk/meetings/planning-committee-16-february-2022/
END:VEVENT
END:VCALENDAR
