BEGIN:VCALENDAR
VERSION:2.0
PRODID:-//Northway Parish Council//Meeting Calendar//EN
CALSCALE:GREGORIAN
METHOD:PUBLISH
BEGIN:VEVENT
UID:71196-20220316@northwayparishcouncil.gov.uk
DTSTAMP:20260420T085100Z
DTSTART;VALUE=DATE:20220316
DTEND;VALUE=DATE:20220317
SUMMARY:Planning Committee &#8211\\; 16 March 2022
DESCRIPTION:Planning Committee Meeting\nView details: https://northwayparishcouncil.gov.uk/meetings/planning-committee-16-march-2022/
URL:https://northwayparishcouncil.gov.uk/meetings/planning-committee-16-march-2022/
END:VEVENT
END:VCALENDAR
