BEGIN:VCALENDAR
VERSION:2.0
PRODID:-//Northway Parish Council//Meeting Calendar//EN
CALSCALE:GREGORIAN
METHOD:PUBLISH
BEGIN:VEVENT
UID:71208-20220720@northwayparishcouncil.gov.uk
DTSTAMP:20260420T071734Z
DTSTART;VALUE=DATE:20220720
DTEND;VALUE=DATE:20220721
SUMMARY:Planning Committee &#8211\\; 20 July 2022
DESCRIPTION:Planning Committee Meeting\nView details: https://northwayparishcouncil.gov.uk/meetings/planning-committee-20-july-2022/
URL:https://northwayparishcouncil.gov.uk/meetings/planning-committee-20-july-2022/
END:VEVENT
END:VCALENDAR
