BEGIN:VCALENDAR
VERSION:2.0
PRODID:-//Northway Parish Council//Meeting Calendar//EN
CALSCALE:GREGORIAN
METHOD:PUBLISH
BEGIN:VEVENT
UID:71232-20230419@northwayparishcouncil.gov.uk
DTSTAMP:20260420T041105Z
DTSTART;VALUE=DATE:20230419
DTEND;VALUE=DATE:20230420
SUMMARY:Planning Committee &#8211\\; 19 April 2023
DESCRIPTION:Planning Committee Meeting\nView details: https://northwayparishcouncil.gov.uk/meetings/planning-committee-19-april-2023/
URL:https://northwayparishcouncil.gov.uk/meetings/planning-committee-19-april-2023/
END:VEVENT
END:VCALENDAR
