BEGIN:VCALENDAR
VERSION:2.0
PRODID:-//Northway Parish Council//Meeting Calendar//EN
CALSCALE:GREGORIAN
METHOD:PUBLISH
BEGIN:VEVENT
UID:71235-20230517@northwayparishcouncil.gov.uk
DTSTAMP:20260420T023839Z
DTSTART;VALUE=DATE:20230517
DTEND;VALUE=DATE:20230518
SUMMARY:Planning Committee &#8211\\; 17 May 2023
DESCRIPTION:Planning Committee Meeting\nView details: https://northwayparishcouncil.gov.uk/meetings/planning-committee-17-may-2023/
URL:https://northwayparishcouncil.gov.uk/meetings/planning-committee-17-may-2023/
END:VEVENT
END:VCALENDAR
