BEGIN:VCALENDAR
VERSION:2.0
PRODID:-//Northway Parish Council//Meeting Calendar//EN
CALSCALE:GREGORIAN
METHOD:PUBLISH
BEGIN:VEVENT
UID:71238-20230621@northwayparishcouncil.gov.uk
DTSTAMP:20260420T023657Z
DTSTART;VALUE=DATE:20230621
DTEND;VALUE=DATE:20230622
SUMMARY:Planning Committee &#8211\\; 21 June 2023
DESCRIPTION:Planning Committee Meeting\nView details: https://northwayparishcouncil.gov.uk/meetings/planning-committee-21-june-2023/
URL:https://northwayparishcouncil.gov.uk/meetings/planning-committee-21-june-2023/
END:VEVENT
END:VCALENDAR
