BEGIN:VCALENDAR
VERSION:2.0
PRODID:-//Northway Parish Council//Meeting Calendar//EN
CALSCALE:GREGORIAN
METHOD:PUBLISH
BEGIN:VEVENT
UID:71241-20230719@northwayparishcouncil.gov.uk
DTSTAMP:20260420T023244Z
DTSTART;VALUE=DATE:20230719
DTEND;VALUE=DATE:20230720
SUMMARY:Planning Committee &#8211\\; 19 July 2023
DESCRIPTION:Planning Committee Meeting\nView details: https://northwayparishcouncil.gov.uk/meetings/planning-committee-19-july-2023/
URL:https://northwayparishcouncil.gov.uk/meetings/planning-committee-19-july-2023/
END:VEVENT
END:VCALENDAR
