BEGIN:VCALENDAR
VERSION:2.0
PRODID:-//Northway Parish Council//Meeting Calendar//EN
CALSCALE:GREGORIAN
METHOD:PUBLISH
BEGIN:VEVENT
UID:71247-20230920@northwayparishcouncil.gov.uk
DTSTAMP:20260420T005854Z
DTSTART;VALUE=DATE:20230920
DTEND;VALUE=DATE:20230921
SUMMARY:Planning Committee &#8211\\; 20 September 2023
DESCRIPTION:Planning Committee Meeting\nView details: https://northwayparishcouncil.gov.uk/meetings/planning-committee-20-september-2023/
URL:https://northwayparishcouncil.gov.uk/meetings/planning-committee-20-september-2023/
END:VEVENT
END:VCALENDAR
