BEGIN:VCALENDAR
VERSION:2.0
PRODID:-//Northway Parish Council//Meeting Calendar//EN
CALSCALE:GREGORIAN
METHOD:PUBLISH
BEGIN:VEVENT
UID:71267-20190731@northwayparishcouncil.gov.uk
DTSTAMP:20260419T152647Z
DTSTART;VALUE=DATE:20190731
DTEND;VALUE=DATE:20190801
SUMMARY:Finance Committee &#8211\\; 31 July 2019
DESCRIPTION:Finance Committee Meeting\nView details: https://northwayparishcouncil.gov.uk/meetings/finance-committee-31-july-2019/
URL:https://northwayparishcouncil.gov.uk/meetings/finance-committee-31-july-2019/
END:VEVENT
END:VCALENDAR
