BEGIN:VCALENDAR
VERSION:2.0
PRODID:-//Northway Parish Council//Meeting Calendar//EN
CALSCALE:GREGORIAN
METHOD:PUBLISH
BEGIN:VEVENT
UID:71273-20191211@northwayparishcouncil.gov.uk
DTSTAMP:20260419T152854Z
DTSTART;VALUE=DATE:20191211
DTEND;VALUE=DATE:20191212
SUMMARY:Finance Committee &#8211\\; 11 December 2019
DESCRIPTION:Finance Committee Meeting\nView details: https://northwayparishcouncil.gov.uk/meetings/finance-committee-11-december-2019/
URL:https://northwayparishcouncil.gov.uk/meetings/finance-committee-11-december-2019/
END:VEVENT
END:VCALENDAR
