BEGIN:VCALENDAR
VERSION:2.0
PRODID:-//Northway Parish Council//Meeting Calendar//EN
CALSCALE:GREGORIAN
METHOD:PUBLISH
BEGIN:VEVENT
UID:71291-20201104@northwayparishcouncil.gov.uk
DTSTAMP:20260419T200017Z
DTSTART;VALUE=DATE:20201104
DTEND;VALUE=DATE:20201105
SUMMARY:Finance Committee &#8211\\; 4 November 2020
DESCRIPTION:Finance Committee Meeting\nView details: https://northwayparishcouncil.gov.uk/meetings/finance-committee-4-november-2020/
URL:https://northwayparishcouncil.gov.uk/meetings/finance-committee-4-november-2020/
END:VEVENT
END:VCALENDAR
