BEGIN:VCALENDAR
VERSION:2.0
PRODID:-//Northway Parish Council//Meeting Calendar//EN
CALSCALE:GREGORIAN
METHOD:PUBLISH
BEGIN:VEVENT
UID:71300-20210428@northwayparishcouncil.gov.uk
DTSTAMP:20260419T195646Z
DTSTART;VALUE=DATE:20210428
DTEND;VALUE=DATE:20210429
SUMMARY:Finance Committee &#8211\\; 28 April 2021
DESCRIPTION:Finance Committee Meeting\nView details: https://northwayparishcouncil.gov.uk/meetings/finance-committee-28-april-2021/
URL:https://northwayparishcouncil.gov.uk/meetings/finance-committee-28-april-2021/
END:VEVENT
END:VCALENDAR
