BEGIN:VCALENDAR
VERSION:2.0
PRODID:-//Northway Parish Council//Meeting Calendar//EN
CALSCALE:GREGORIAN
METHOD:PUBLISH
BEGIN:VEVENT
UID:71303-20210602@northwayparishcouncil.gov.uk
DTSTAMP:20260419T195129Z
DTSTART;VALUE=DATE:20210602
DTEND;VALUE=DATE:20210603
SUMMARY:Finance Committee &#8211\\; 2 June 2021
DESCRIPTION:Finance Committee Meeting\nView details: https://northwayparishcouncil.gov.uk/meetings/finance-committee-2-june-2021/
URL:https://northwayparishcouncil.gov.uk/meetings/finance-committee-2-june-2021/
END:VEVENT
END:VCALENDAR
